BEGIN:VCALENDAR
VERSION:2.0
PRODID:-//Plone.org//NONSGML plone.app.event//EN
X-WR-TIMEZONE:Brazil/East
BEGIN:VEVENT
SUMMARY:Reunião Ordinária
DTSTART;TZID=Brazil/East;VALUE=DATE-TIME:20141021T190000
DTEND;TZID=Brazil/East;VALUE=DATE-TIME:20141021T235900
DTSTAMP;VALUE=DATE-TIME:20260421T175106Z
UID:e2985c4ed78e4e2ab5ce696dc3bf04a5@www.saofranciscodesales.mg.leg.br
ATTENDEE;CN="Vereadores, autoridades, munícipes, visitantes e todos inter
 essados.";ROLE=REQ-PARTICIPANT:Vereadores, autoridades, munícipes, visita
 ntes e todos interessados.
CONTACT:Teresinha Teixeira Silva\, (34)3413-1270\, camarasfs@netsite.com.b
 r
CREATED;VALUE=DATE-TIME:20141007T162621Z
LAST-MODIFIED;VALUE=DATE-TIME:20141007T162700Z
LOCATION:Plenáriod da Câmara Municipal de São Francisco de Sales
URL:https://www.saofranciscodesales.mg.leg.br/institucional/eventos/reunia
 o-ordinaria-1
END:VEVENT
BEGIN:VTIMEZONE
TZID:Brazil/East
X-LIC-LOCATION:Brazil/East
BEGIN:DAYLIGHT
DTSTART;VALUE=DATE-TIME:20141019T010000
TZNAME:BRST
TZOFFSETFROM:-0300
TZOFFSETTO:-0200
END:DAYLIGHT
END:VTIMEZONE
END:VCALENDAR
