BEGIN:VCALENDAR
VERSION:2.0
PRODID:-//Plone.org//NONSGML plone.app.event//EN
X-WR-TIMEZONE:Brazil/East
BEGIN:VEVENT
SUMMARY:Reunião Ordinária
DTSTART;TZID=Brazil/East;VALUE=DATE-TIME:20141104T190000
DTEND;TZID=Brazil/East;VALUE=DATE-TIME:20141104T235900
DTSTAMP;VALUE=DATE-TIME:20260422T044426Z
UID:d2bb35e3ef954aaf954327bed7e60ec4@www.saofranciscodesales.mg.leg.br
ATTENDEE;CN="Vereadores, autoridades, munícipes, visitantes e quaisquer i
 nteressados.";ROLE=REQ-PARTICIPANT:Vereadores, autoridades, munícipes, vi
 sitantes e quaisquer interessados.
CONTACT:Teresinha Teixeira Silva\, (34)3413-1270\, camarasfs@netsite.com.b
 r
CREATED;VALUE=DATE-TIME:20141007T162802Z
LAST-MODIFIED;VALUE=DATE-TIME:20141007T162805Z
LOCATION:Plenáriod da Câmara Municipal de São Francisco de Sales
URL:https://www.saofranciscodesales.mg.leg.br/institucional/eventos/reunia
 o-ordinaria-2
END:VEVENT
BEGIN:VTIMEZONE
TZID:Brazil/East
X-LIC-LOCATION:Brazil/East
BEGIN:DAYLIGHT
DTSTART;VALUE=DATE-TIME:20141019T010000
TZNAME:BRST
TZOFFSETFROM:-0300
TZOFFSETTO:-0200
END:DAYLIGHT
END:VTIMEZONE
END:VCALENDAR
