BEGIN:VCALENDAR
VERSION:2.0
PRODID:-//Plone.org//NONSGML plone.app.event//EN
X-WR-TIMEZONE:Brazil/East
BEGIN:VEVENT
SUMMARY:Reunião ordinária
DTSTART;TZID=Brazil/East;VALUE=DATE-TIME:20141007T190000
DTEND;TZID=Brazil/East;VALUE=DATE-TIME:20141007T235900
DTSTAMP;VALUE=DATE-TIME:20260422T055701Z
UID:c5dc08535739477cac1158b6a1665188@www.saofranciscodesales.mg.leg.br
ATTENDEE;CN="Vereadores, autoridades, munícipes, visitantes e todos inter
 essados.";ROLE=REQ-PARTICIPANT:Vereadores, autoridades, munícipes, visita
 ntes e todos interessados.
CONTACT:Terezinha\, (034)3413-1270\, camarasfs@netsite.com.br
CREATED;VALUE=DATE-TIME:20141002T172822Z
LAST-MODIFIED;VALUE=DATE-TIME:20141007T163140Z
LOCATION:Plenário da Câmara Municipal de São Francisco de Sales
URL:https://www.saofranciscodesales.mg.leg.br/institucional/eventos/reunia
 o-ordinaria
END:VEVENT
BEGIN:VTIMEZONE
TZID:Brazil/East
X-LIC-LOCATION:Brazil/East
BEGIN:STANDARD
DTSTART;VALUE=DATE-TIME:20140215T230000
TZNAME:BRT
TZOFFSETFROM:-0200
TZOFFSETTO:-0300
END:STANDARD
END:VTIMEZONE
END:VCALENDAR
